BEGIN:VCALENDAR
VERSION:2.0
PRODID:-//E-DYCE - ECPv6.0.0.1//NONSGML v1.0//EN
CALSCALE:GREGORIAN
METHOD:PUBLISH
X-WR-CALNAME:E-DYCE
X-ORIGINAL-URL:https://edyce.eu
X-WR-CALDESC:Events for E-DYCE
REFRESH-INTERVAL;VALUE=DURATION:PT1H
X-Robots-Tag:noindex
X-PUBLISHED-TTL:PT1H
BEGIN:VTIMEZONE
TZID:Europe/Athens
BEGIN:DAYLIGHT
TZOFFSETFROM:+0200
TZOFFSETTO:+0300
TZNAME:EEST
DTSTART:20230326T010000
END:DAYLIGHT
BEGIN:STANDARD
TZOFFSETFROM:+0300
TZOFFSETTO:+0200
TZNAME:EET
DTSTART:20231029T010000
END:STANDARD
END:VTIMEZONE
BEGIN:VEVENT
DTSTART;VALUE=DATE:20230321
DTEND;VALUE=DATE:20230323
DTSTAMP:20260425T062035
CREATED:20230314T121544Z
LAST-MODIFIED:20230314T125942Z
UID:4516-1679356800-1679529599@edyce.eu
SUMMARY:E-DYCE 7th Plenary and Steering Committee Meeting (PSC) in Rome\, Italy\, on March 21-22 2023
DESCRIPTION:E-DYCE project consortium shall organize its 7th PCS Meeting in Rome\, Italy on March 21-22\, 2023 at the beginning of the 8th and final semester of the project\, officially ending in August 2023. \nAll partners of the consortium will meet in person for two (2) days to evaluate the progress of the project and to present and discuss all achievements and the ongoing Work Packages. Moreover\, they shall discuss and organize their upcoming Final Conference to be held in Brussels on 23 May 2023\, jointly with the other two projects D^2EPC and ePANACEA\, sharing the same Next Gen EPCs cluster.
URL:https://edyce.eu/event/e-dyce-7th-plenary-and-steering-committee-meeting-psc-in-rome-italy-on-march-21-and-22-2023/
CATEGORIES:E-DYCE Events
ATTACH;FMTTYPE=image/jpeg:https://edyce.eu/wp-content/uploads/2023/03/Rome-steering-committe-Edyce.jpg
ORGANIZER;CN="E-DYCE":MAILTO:info@edyce.eu
END:VEVENT
END:VCALENDAR