BEGIN:VCALENDAR
VERSION:2.0
PRODID:-//E-DYCE - ECPv6.0.0.1//NONSGML v1.0//EN
CALSCALE:GREGORIAN
METHOD:PUBLISH
X-ORIGINAL-URL:https://edyce.eu
X-WR-CALDESC:Events for E-DYCE
REFRESH-INTERVAL;VALUE=DURATION:PT1H
X-Robots-Tag:noindex
X-PUBLISHED-TTL:PT1H
BEGIN:VTIMEZONE
TZID:Europe/Athens
BEGIN:DAYLIGHT
TZOFFSETFROM:+0200
TZOFFSETTO:+0300
TZNAME:EEST
DTSTART:20220327T010000
END:DAYLIGHT
BEGIN:STANDARD
TZOFFSETFROM:+0300
TZOFFSETTO:+0200
TZNAME:EET
DTSTART:20221030T010000
END:STANDARD
END:VTIMEZONE
BEGIN:VEVENT
DTSTART;TZID=Europe/Athens:20220322T080000
DTEND;TZID=Europe/Athens:20220323T170000
DTSTAMP:20260426T024359
CREATED:20220420T213954Z
LAST-MODIFIED:20220910T081927Z
UID:3402-1647936000-1648054800@edyce.eu
SUMMARY:Brief E-DYCE meeting
DESCRIPTION:All consortium partners of E-DYCE project met on 22nd and 23rd of March 2022 at GEP’s offices in Athens\, Greece. During the meeting the general overview of the progress and the future work of all E-DYCE Work Packages towards a Dynamic Energy Performance Certification were analyzed and discussed. Particularly\, the task leaders have shortly illustrated the ongoing work and the description of next semester planned actions. Most importantly the consortium assesses the results achieved so far and the partners exchanged ideas on how to address the major challenges of the project. \nDiscussions of this project meeting were especially focused on the formulation on the Dynamic EPC protocol (KPIs) including data availability and pilot needs (WP2). Additionally\, valuable discussions were performed on improving the dynamic simulation methods (WP3) and on the integration approaches (WP4) assisting the key objectives of the project towards a novel and holistic renovation roadmap to all demo cases (WP5). Finally\, a detailed and in-depth discussion was dedicated on the dissemination and communication activities (WP6).
URL:https://edyce.eu/event/brief-e-dyce-meeting/
LOCATION:Athens\, Samou 51\, Athens\, Other (Non US)\, 151 25\, Greece
CATEGORIES:E-DYCE Events
ATTACH;FMTTYPE=image/jpeg:https://edyce.eu/wp-content/uploads/2022/04/IMG_3091.jpeg
END:VEVENT
END:VCALENDAR