BEGIN:VCALENDAR
VERSION:2.0
PRODID:-//E-DYCE - ECPv6.0.0.1//NONSGML v1.0//EN
CALSCALE:GREGORIAN
METHOD:PUBLISH
X-ORIGINAL-URL:https://edyce.eu
X-WR-CALDESC:Events for E-DYCE
REFRESH-INTERVAL;VALUE=DURATION:PT1H
X-Robots-Tag:noindex
X-PUBLISHED-TTL:PT1H
BEGIN:VTIMEZONE
TZID:Europe/Athens
BEGIN:DAYLIGHT
TZOFFSETFROM:+0200
TZOFFSETTO:+0300
TZNAME:EEST
DTSTART:20220327T010000
END:DAYLIGHT
BEGIN:STANDARD
TZOFFSETFROM:+0300
TZOFFSETTO:+0200
TZNAME:EET
DTSTART:20221030T010000
END:STANDARD
END:VTIMEZONE
BEGIN:VEVENT
DTSTART;TZID=Europe/Athens:20220919T150000
DTEND;TZID=Europe/Athens:20220921T173000
DTSTAMP:20260425T173426
CREATED:20221014T135943Z
LAST-MODIFIED:20221029T140728Z
UID:4347-1663599600-1663781400@edyce.eu
SUMMARY:E-DYCE 6th Plenary and Steering Committee Meeting (PSC) in Nicosia\, Cyprus\, on September 19th to 21st\, 2022
DESCRIPTION:In the beginning of the 3rd and final year of the E-DYCE project\, the consortium organized its 6th PCS Meeting in Nicosia\, Cyprus. The meeting took place in the Multipurpose Municipal Center of Nicosia\, courtesy of the Municipality of Nicosia\, and was organized by partner ESTIA. \nAll partners of the consortium met in person for three (3) days to evaluate the progress of the project\, by presenting and discussing all the effort and updated achievements in all ongoing Work Packages. Moreover\, a very fruitful and in-depth assessment on the future work planning and the upcoming activities during project’s critical final year\, took place. \nWe were pleased that 4 members of project’s Advisory Board joined the meeting providing their valuable thoughts and recommendations. Ms. Tine Steen Larsen\, Mr. Nikos Hadjinicolaou and Mr. Savvas Valchos participated in person\, whilst Mr. Claude-Alain Roulet participated on-line. \nInitially\, our coordinator Prof. Michal Pomianowski from AAU presented the status of the project\, together with the co-coordinator Asst. Prof. Giacomo Chiesa from POLITO. \nAfterwards\, the WP & Task leaders presented the ongoing work\, as well as the description of next semester planned actions. The consortium assessed the results achieved so far\, and the partners exchanged ideas on how to address the major challenges of the project. \nA brief description of the work and the upcoming activity for each WP is following below. \n  \n \n \n \n \n \n \n  \n  \n  \n  \nDuring the second day an important workshop took place were the value proposition of 4 different personas (authorities\, public administrators\, building owners and EPC experts\, was identified. \n  \n  \n \n  \nFinally\, E-DYCE project in collaboration with the Nicosia Municipality\, organized two (2) guided tours to discover bioclimatic architectural strategies applied to buildings to reduce energy consumption\, and to urban space to mitigate the “heat island” phenomenon. The tours were also open to the public. \n  \n  \n  \n  \n 
URL:https://edyce.eu/event/e-dyce-6th-plenary-and-steering-committee-meeting-psc-in-nicosia-cyprus-on-september-19th-to-21st-2022/
LOCATION:Cyprus\, Nicosia\, Cyprus
CATEGORIES:E-DYCE Events
ATTACH;FMTTYPE=image/jpeg:https://edyce.eu/wp-content/uploads/2022/10/9.jpg
END:VEVENT
BEGIN:VEVENT
DTSTART;TZID=Europe/Athens:20220920T153000
DTEND;TZID=Europe/Athens:20220920T163000
DTSTAMP:20260425T173426
CREATED:20220911T085940Z
LAST-MODIFIED:20220918T183832Z
UID:3950-1663687800-1663691400@edyce.eu
SUMMARY:Visit to the urban area
DESCRIPTION:The European Horizon2020 research project E-DYCE\, in collaboration with the Nicosia Municipality\, is organizing two (2) guided tours to discover bioclimatic architectural strategies applied to buildings to reduce energy consumption\, and to urban space to mitigate the heat island phenomenon. \nThe second tour planned to last 1 hour approximately\, will be guided by Ms. Marina Tymviou architect of the urban redesign project of the commercial triangle Makariou-Stasikratous-Evagorou and by the head of the Nicosia Master Plan office architect Ms. Athina Papadopoulou\, who together with Dr. Flourentzos Flourentzou will explain the choice of materials\, shading and urban heat reflection strategies\, cooling techniques\, bioclimatic choice of trees\, plants and the logic of their location in the shopping streets . In Eleftherias Square the visitors will understand the efficiency of wet elements\, the wind venturi effect\, the use of grass\, shading\, cold materials and feel by themselves the climatic effect of these strategies. \nThe participation list will be closed according to the priority of the first thirty (30) registered persons. Participation of one (1) person per registration will be strictly adhered to. \nAfter the thirty (30) registrations have been completed\, any additional persons wishing to participate may send an email to the Program (to be found at the end of each webpage of this site). They shall be timely informed if such event will be held again in the future\, and they will have priority to participate to that. \nYou are kindly expected to press accordingly hereafter the following buttons to complete your registration: \n\nPress “submit” under “Terms of Use” after you have read and /or agreed with the Terms of Use and Privacy Policy of this website\nYou may Add to (your) Calendar the Event\, if you maintain a Google Calendar\, or you may skip this\nYou may press the button “Going” under “RSVP Here” to open your registration form\nYou fill in your details there and press “Finish” to successfully end\, or “Cancel”\nYou will receive a confirmation email in your designated address\n\n  \nThis project has received funding from the European Union’s Horizon 2020 research and innovation programme under grant agreement No 893945. \n \nTerms οf Use | Privacy Policy \nPlease enable JavaScript in your browser to complete this form.Terms of UseBy using this form you agree with the storage and handling of the your personal data by this website in accordance to its Terms of Use and Privacy PolicySubmit
URL:https://edyce.eu/event/visit-to-the-to-the-urban-area/
LOCATION:Cyprus\, Nicosia\, Cyprus
CATEGORIES:E-DYCE Events
ATTACH;FMTTYPE=image/jpeg:https://edyce.eu/wp-content/uploads/2022/09/free-tours.jpg
END:VEVENT
BEGIN:VEVENT
DTSTART;TZID=Europe/Athens:20220920T163000
DTEND;TZID=Europe/Athens:20220920T173000
DTSTAMP:20260425T173426
CREATED:20220911T101312Z
LAST-MODIFIED:20220918T184123Z
UID:3987-1663691400-1663695000@edyce.eu
SUMMARY:Επίσκεψη στον αστικό χώρο
DESCRIPTION:Το ευρωπαϊκό ερευνητικό πρόγραμμα Horizon2020 E-DYCE σε συνεργασία με το Δήμο Λευκωσίας διοργανώνει δύο (2) ξεναγήσεις με αντικείμενο τις βιοκλιματικές αρχιτεκτονικές στρατηγικές που μπορεί να εφαρμόσει κάποιος σε κτίρια για τη μείωση της κατανάλωσης ενέργειας και στον αστικό χώρο για να μετριάσει το φαινόμενο της θερμικής νησίδας. \nΗ δεύτερη ξενάγηση που υπολογίζεται να διαρκέσει 1 ώρα θα γίνει από την κα. Μαρίνα Τυμβίου αρχιτέκτονα του έργου ανάπλασης του εμπορικού τριγώνου Στασικράτους-Ευαγόρου-Μακαρίου και την προϊστάμενη του γραφείου του Ενιαίου Ρυθμιστικού Σχεδίου Λευκωσίας αρχιτέκτονα κα Αθηνά Παπαδοπούλου\, που μαζί με τον Δρ. Φλουρέντζου θα εξηγήσουν την επιλογή των υλικών\, τις στρατηγικές σκίασης και αστικής ανάκλασης της θερμότητας\, τις τεχνικές ψύξης\, τη βιοκλιματική επιλογή των δέντρων\, των φυτών και τη λογική της τοποθέτησής τους στους εμπορικούς δρόμους . Στην πλατεία Ελευθερίας οι επισκέπτες θα κατανοήσουν την αποτελεσματικότητα των υγρών στοιχείων\, το φαινόμενο venturi του ανέμου στην κάτω πλατεία\, τη χρήση γρασιδιού\, τη σκίαση\, τα ψυχρά υλικά και θα νιώσουν οι ίδιοι το κλιματικό αποτέλεσμα αυτών των στρατηγικών. \nΟι ξεναγήσεις προσφέρονται δωρεάν από τον Δήμο Λευκωσίας και το ερευνητικό πρόγραμμα H2020 E-DYCE. \nΟ κατάλογος συμμετοχής θα κλείσει σύμφωνα με την προτεραιότητα των πρώτων τριάντα (30) εγγεγραμμένων ατόμων. Θα τηρηθεί αυστηρά η συμμετοχή ενός (1) ατόμου ανά εγγραφή. \nΜετά την συμπλήρωση των τριάντα (30) εγγραφών\, τυχόν επιπλέον άτομα που επιθυμούν να συμμετάσχουν μπορούν να αποστείλουν ηλεκτρονικό μήνυμα (email) προς το Πρόγραμμα (η εγγραφή και αποστολή βρίσκεται στο τέλος κάθε ιστοσελίδας μας). Τα πρόσωπα αυτά θα ενημερωθούν έγκαιρα εάν τέτοιες εκδηλώσεις θα διοργανωθούν ξανά στο μέλλον\, και θα συμμετάσχουν τότε κατά προτεραιότητα\, αν επιθυμούν. \nΓιά να ολοκληρώστε την εγγραφή σας\, θα πρέπει να πατήσετε αναλόγως τα παρακάτω κουμπιά: \n1) Πατήστε «submit»(υποβολή) κάτω από τους «Όρους Χρήσης»  αφού διαβάσετε και/ή συμφωνήσετε με τους Όρους Χρήσης και την Πολιτική Απορρήτου \n2) Μπορείτε να προσθέσετε στο ημερολόγιο (σας) το συμβάν\, εάν διατηρείτε ένα Ημερολόγιο Google\, ή μπορείτε να το παραλείψετε \n3) Μπορείτε να πατήσετε το κουμπί “Going” (Προχωρώ) κάτω από το “RSVP Here” (Συνάντηση Εδώ) για να ανοίξετε τη φόρμα εγγραφής \n4) Συμπληρώνετε τα στοιχεία σας εκεί και πατάτε “Finish” (Τέλος) για επιτυχή λήξη ή “Cancel” (Ακύρωση) \n5) Θα λάβετε ένα ηλεκτρονικό μήνυμα (email) επιβεβαίωσης\, στην ηλεκτρονική διεύθυνσή σας που δηλώσατε. \n  \nThis project has received funding from the European Union’s Horizon 2020 research and innovation programme under grant agreement No 893945. \n \nΌροι Χρήσης | Πολιτική Απορρήτου \nPlease enable JavaScript in your browser to complete this form.Terms of UseΜε τη χρήση αυτής της φόρμας συμφωνείτε με την αποθήκευση και το χειρισμό των προσωπικών σας δεδομένων από αυτόν τον ιστότοπο σύμφωνα με τους Όρους Χρήσης του και την Πολιτική Απορρήτου αυτού.Submit
URL:https://edyce.eu/event/%ce%b5%cf%80%ce%af%cf%83%ce%ba%ce%b5%cf%88%ce%b7-%cf%83%cf%84%ce%bf%ce%bd-%ce%b1%cf%83%cf%84%ce%b9%ce%ba%cf%8c-%cf%87%cf%8e%cf%81%ce%bf/
LOCATION:Cyprus\, Nicosia\, Cyprus
CATEGORIES:E-DYCE Events
ATTACH;FMTTYPE=image/jpeg:https://edyce.eu/wp-content/uploads/2022/09/free-tours.jpg
END:VEVENT
END:VCALENDAR