BEGIN:VCALENDAR
VERSION:2.0
PRODID:-//E-DYCE - ECPv6.0.0.1//NONSGML v1.0//EN
CALSCALE:GREGORIAN
METHOD:PUBLISH
X-ORIGINAL-URL:https://edyce.eu
X-WR-CALDESC:Events for E-DYCE
REFRESH-INTERVAL;VALUE=DURATION:PT1H
X-Robots-Tag:noindex
X-PUBLISHED-TTL:PT1H
BEGIN:VTIMEZONE
TZID:Europe/Athens
BEGIN:DAYLIGHT
TZOFFSETFROM:+0200
TZOFFSETTO:+0300
TZNAME:EEST
DTSTART:20230326T010000
END:DAYLIGHT
BEGIN:STANDARD
TZOFFSETFROM:+0300
TZOFFSETTO:+0200
TZNAME:EET
DTSTART:20231029T010000
END:STANDARD
END:VTIMEZONE
BEGIN:VEVENT
DTSTART;VALUE=DATE:20230524
DTEND;VALUE=DATE:20230525
DTSTAMP:20260425T045132
CREATED:20230511T192925Z
LAST-MODIFIED:20230512T142012Z
UID:4553-1684886400-1684972799@edyce.eu
SUMMARY:Next Generation Energy Performance Assessment\, Rating and Certification: Towards a Smart and Decarbonised Future for European Buildings D^2EPC\, E-DYCE & ePANACEA Final Conference 24 May 2023\, Brussels & online
DESCRIPTION:  \n  \n        \n  \n  \nReaching the end of European Union’s Horizon 2020 research and innovation programme’s D^2EPC\, E-DYCE & ePANACEA projects\, a common final conference will be held on 24 May 2023\, physically at Le Plaza in Brussels. Participation in the event is free of charge but prior registration is required. \nThe three projects\, each unique with its own perspective on the issue of Energy Performance Certificates (EPCs)\, will meet to discuss “Next Generation Energy Performance Assessment\, Rating and Certification: Towards a Smart and Decarbonised Future for European Buildings”. The conference aims to contribute to the dialogue ahead of EPCs interlinked with AI\, platforms\, data and the BIM-based digital twin concept and it will provide participants the opportunity to discuss about: \n\nThe global context\, EU policy context\, EPBD Recast\, REPower EU etc. regarding EPCs\nThe gaps of the existing energy performance certification schemes\nThe technology\, policy and market insights from the three projects\nSpecific results from the three projects\nThe opportunities and challenges of dynamic and smart EPCs\n\nMost EU Member States have set up a central or regional EPC register to enhance the energy performance of buildings. The EPCs provide information to consumers on buildings they plan to purchase or rent and include an energy performance rating and recommendations for cost-effective improvements. After 10 years of track record\, the current EPCs schemes across the EU do not fully accomplish the following objectives: lack of accuracy\, a gap between theoretical and real consumption patterns\, absence of proper protocols for inclusion of smart and novel technologies\, little convergence across EU schemes\, lack of trust in the market and very little user awareness related to energy efficiency. In addition\, smartness in buildings\, which are easy to cope with changes\, are not rewarded when buildings are labeled. Overheating\, low comfort\, demotivation for renovations can be considered as results of poor decisions taken through EPCs. \nThe three projects’ objectives are: \n\nSet the grounds for the NextGen of dynamic EPCs for the operational assessment of buildings energy performance\, building upon actual data and the ‘digital twin’ concept to enable enhanced multi-parameter assessment and provide improved AI-driven assessment recommendations (D^2EPC project)\nThe natural evolution of the conventional EPC into real time optimisation of building performance and comfort\, by capturing the building’s dynamic behavior\, and simultaneously providing transparent feedback\, through an intuitive interface (E-DYCE project)\nMaking use of the most advanced techniques in dynamic and automated simulation modelling\, big data analysis and machine learning\, inverse modelling or the estimation of potential energy savings and economic viability check (ePANACEA project)\n\nD^2EPC\, E-DYCE and ePANACEA are completing three years of commitments and achievements in the field of next generation building performance assessment and certification. The projects became part of the Next Gen EPCs cluster in 2020 which includes 10 more similar projects: X-tendo\, U-CERT\, QualDeEPC\, EPC-RECAST\, crossCert\, EUBSuperHub\, iBRoad2EPC\, TIMEPAC\, SmartlivingEPC and CHRONICLE. \n  \nThe conference is open to anyone who is interested in the topic. You can register for the final conference here.
URL:https://edyce.eu/event/next-generation-energy-performance-assessment-rating-and-certification/
CATEGORIES:E-DYCE Events
ATTACH;FMTTYPE=image/png:https://edyce.eu/wp-content/uploads/2023/05/Joint-final-conferences.png
ORGANIZER;CN="E-DYCE":MAILTO:info@edyce.eu
END:VEVENT
BEGIN:VEVENT
DTSTART;VALUE=DATE:20230524
DTEND;VALUE=DATE:20230525
DTSTAMP:20260425T045132
CREATED:20230907T221208Z
LAST-MODIFIED:20240131T150151Z
UID:4645-1684886400-1684972799@edyce.eu
SUMMARY:D^2EPC\, E-DYCE & ePANACEA Joint Final Conference
DESCRIPTION:Three EU-funded Horizon 2020 projects\, D^2EPC\, E-DYCE & ePANACEA \, joined forces in organizing a final conference to present their outcomes\, as all of them are reaching their end after 3 years of hard work. The event was held physically on the 24th of May 2023 at Hotel Le Plaza in Brussels. The conference focused on “Next Generation Energy Performance Assessment\, Rating and Certification: Towards a Smart and Decarbonised Future for European Buildings” where each project presented its own findings on how to optimize and extend the use of Energy Performance Certificates. \n  \nThe conference contributed to the dialogue ahead of EPCs interlinked with AI\, platforms\, data and the BIM-based digital twin concept and provided participants the opportunity to discuss about: \n\nThe global context\, EU policy context\, EPBD Recast\, REPower EU etc. regarding EPCs\nThe gaps of the existing energy performance certification schemes\nThe technology\, policy and market insights from the three projects\nSpecific results from the three projects\nThe opportunities and challenges of dynamic and smart EPCs\n\n  \nThe three projects’ specific objectives have been: \nSet the grounds for the NextGen of dynamic EPCs for the operational assessment of buildings energy performance\, building upon actual data and the ‘digital twin’ concept to enable enhanced multi-parameter assessment and provide improved AI-driven assessment recommendations (D^2EPC project) \nThe natural evolution of the conventional EPC into real time optimisation of building performance and comfort\, by capturing the building’s dynamic behavior\, and simultaneously providing transparent feedback\, through an intuitive interface (E-DYCE project) \nMaking use of the most advanced techniques in dynamic and automated simulation modelling\, big data analysis and machine learning\, inverse modelling or the estimation of potential energy savings and economic viability check (ePANACEA project) \nIn 2020\, D^2EPC\, E-DYCE and ePANACEA became part of the Next Gen EPCs cluster which also includes 10 more related projects: X-tendo\, U-CERT\, QualDeEPC\, EPC-RECAST\, crossCert\, EUBSuperHub\, iBRoad2EPC\, TIMEPAC\, SmartlivingEPC and CHRONICLE. \n  \nThe conference included summary presentations of outcomes by the 3 projects’ partners\, as well as insightful contributions and roundtable discussions with EU experts. \n  \nPlease find the agenda of the conference here \nWatch all the presentations here
URL:https://edyce.eu/event/d2epc-e-dyce-epanacea-joint-final-conference/
CATEGORIES:E-DYCE Events
ATTACH;FMTTYPE=image/png:https://edyce.eu/wp-content/uploads/2023/09/JFC-23.png
END:VEVENT
END:VCALENDAR