BEGIN:VCALENDAR
VERSION:2.0
PRODID:-//E-DYCE - ECPv6.0.0.1//NONSGML v1.0//EN
CALSCALE:GREGORIAN
METHOD:PUBLISH
X-ORIGINAL-URL:https://edyce.eu
X-WR-CALDESC:Events for E-DYCE
REFRESH-INTERVAL;VALUE=DURATION:PT1H
X-Robots-Tag:noindex
X-PUBLISHED-TTL:PT1H
BEGIN:VTIMEZONE
TZID:Europe/Athens
BEGIN:DAYLIGHT
TZOFFSETFROM:+0200
TZOFFSETTO:+0300
TZNAME:EEST
DTSTART:20230326T010000
END:DAYLIGHT
BEGIN:STANDARD
TZOFFSETFROM:+0300
TZOFFSETTO:+0200
TZNAME:EET
DTSTART:20231029T010000
END:STANDARD
END:VTIMEZONE
BEGIN:VEVENT
DTSTART;VALUE=DATE:20230824
DTEND;VALUE=DATE:20230825
DTSTAMP:20260425T192438
CREATED:20230907T215822Z
LAST-MODIFIED:20240130T151901Z
UID:4624-1692835200-1692921599@edyce.eu
SUMMARY:E-DYCE Final Consortium Metting in Turin\, on 23 &24th of August 2023  / Visit the Municipality of Torre Pellice\, as the Italian case study
DESCRIPTION:On the 23rd and 24th of August\, the E-DYCE project held its final meeting at Politecnico di Torino in Italy\, bringing together all consortium partners. \nDuring this gathering\, participants discussed on the remaining project aspects and reviewed the progress of the final deliverables. Particularly\, task leaders provided updates on their ongoing work and discussed some remaining details needed to complete the deliverables. Ultimately\, the meeting concluded with productive and enlightening discussions about the potential for an E-DYCE 2 opportunity.” \nOn the 25th of August\, the consortium partners boarded a visit to the Municipality of Torre Pellice\, where the selected school was used as a practical example for implementing the E-DYCE methodology and technologies. As part of this visit to the school\, a dedicated workshop took place\, focusing on an in-depth discussion of the technical aspects of the E-DYCE methodology. \n 
URL:https://edyce.eu/event/e-dyce-final-consortium-metting-in-turin-on-23-24th-of-august-2023-visit-the-municipality-of-torre-pellice-as-the-italian-case-study/
CATEGORIES:E-DYCE Events
ATTACH;FMTTYPE=image/jpeg:https://edyce.eu/wp-content/uploads/2023/09/torine-webinar-scaled.jpg
END:VEVENT
BEGIN:VEVENT
DTSTART;VALUE=DATE:20230825
DTEND;VALUE=DATE:20230826
DTSTAMP:20260425T192438
CREATED:20240130T154232Z
LAST-MODIFIED:20240130T154716Z
UID:4745-1692921600-1693007999@edyce.eu
SUMMARY:3rd E-DYCE Webinar: Towards the Dynamic EPCs - EDYCE applications in demo buildings: lessons learned\, Torino 25th of August 2023.
DESCRIPTION:Watch Full Video
URL:https://edyce.eu/event/3rd-e-dyce-webinar-towards-the-dynamic-epcs-edyce-applications-in-demo-buildings-lessons-learned-torino-25th-of-august-2023-2/
CATEGORIES:E-DYCE Events
ATTACH;FMTTYPE=image/jpeg:https://edyce.eu/wp-content/uploads/2024/01/E-DYCE-applications-in-demo-buildings-Results-lessons-learned-1.jpg
END:VEVENT
END:VCALENDAR