BEGIN:VCALENDAR
VERSION:2.0
PRODID:-//E-DYCE - ECPv6.0.0.1//NONSGML v1.0//EN
CALSCALE:GREGORIAN
METHOD:PUBLISH
X-WR-CALNAME:E-DYCE
X-ORIGINAL-URL:https://edyce.eu
X-WR-CALDESC:Events for E-DYCE
REFRESH-INTERVAL;VALUE=DURATION:PT1H
X-Robots-Tag:noindex
X-PUBLISHED-TTL:PT1H
BEGIN:VTIMEZONE
TZID:Europe/Athens
BEGIN:DAYLIGHT
TZOFFSETFROM:+0200
TZOFFSETTO:+0300
TZNAME:EEST
DTSTART:20200329T010000
END:DAYLIGHT
BEGIN:STANDARD
TZOFFSETFROM:+0300
TZOFFSETTO:+0200
TZNAME:EET
DTSTART:20201025T010000
END:STANDARD
BEGIN:DAYLIGHT
TZOFFSETFROM:+0200
TZOFFSETTO:+0300
TZNAME:EEST
DTSTART:20210328T010000
END:DAYLIGHT
BEGIN:STANDARD
TZOFFSETFROM:+0300
TZOFFSETTO:+0200
TZNAME:EET
DTSTART:20211031T010000
END:STANDARD
TZID:Europe/Brussels
BEGIN:DAYLIGHT
TZOFFSETFROM:+0100
TZOFFSETTO:+0200
TZNAME:CEST
DTSTART:20200329T010000
END:DAYLIGHT
BEGIN:STANDARD
TZOFFSETFROM:+0200
TZOFFSETTO:+0100
TZNAME:CET
DTSTART:20201025T010000
END:STANDARD
END:VTIMEZONE
BEGIN:VEVENT
DTSTART;TZID=Europe/Athens:20210218T100000
DTEND;TZID=Europe/Athens:20210218T120000
DTSTAMP:20260423T130200
CREATED:20210108T140313Z
LAST-MODIFIED:20210205T143614Z
UID:3044-1613642400-1613649600@edyce.eu
SUMMARY:Cross WP Telco
DESCRIPTION:
URL:https://edyce.eu/event/cross-wp-telco/
CATEGORIES:E-DYCE Events
ATTACH;FMTTYPE=image/jpeg:https://edyce.eu/wp-content/uploads/2021/01/pexels-snapwire-618613-scaled.jpg
END:VEVENT
BEGIN:VEVENT
DTSTART;TZID=Europe/Athens:20210125T120000
DTEND;TZID=Europe/Athens:20210125T140000
DTSTAMP:20260423T130200
CREATED:20210108T142137Z
LAST-MODIFIED:20210108T153645Z
UID:3055-1611576000-1611583200@edyce.eu
SUMMARY:Next generation Energy Performance Certificates and Deep Renovation
DESCRIPTION:One of our EU sister projects are organising an EU-level expert workshop under the title: \n“Next generation Energy Performance Certificates and Deep Renovation” \nSee link for programme etc.: https://qualdeepc.eu/event/qualdeepc-eu-level-expert-workshop \nIt will be help on January 25th\, 12.00 – 14.00 CET. \nYou are all invited to join.
URL:https://edyce.eu/event/next-generation-energy-performance-certificates-and-deep-renovation/
CATEGORIES:E-DYCE Events
ATTACH;FMTTYPE=image/png:https://edyce.eu/wp-content/uploads/2021/01/QualDeEPC_EUWS_2021.png
END:VEVENT
BEGIN:VEVENT
DTSTART;TZID=Europe/Athens:20201119T103000
DTEND;TZID=Europe/Athens:20201119T103000
DTSTAMP:20260423T130200
CREATED:20210108T103646Z
LAST-MODIFIED:20210108T141504Z
UID:2989-1605781800-1605781800@edyce.eu
SUMMARY:Cross WP Telco
DESCRIPTION:
URL:https://edyce.eu/event/edyce-event-one/
CATEGORIES:E-DYCE Events
ATTACH;FMTTYPE=image/jpeg:https://edyce.eu/wp-content/uploads/2020/03/cons023.jpg
END:VEVENT
BEGIN:VEVENT
DTSTART;TZID=Europe/Brussels:20200901T090000
DTEND;TZID=Europe/Brussels:20200901T170000
DTSTAMP:20260423T130200
CREATED:20210108T141251Z
LAST-MODIFIED:20210126T140033Z
UID:3048-1598950800-1598979600@edyce.eu
SUMMARY:E-DYCE – Project Kick-Off Meeting
DESCRIPTION:
URL:https://edyce.eu/event/e-dyce-project-kick-off-meeting/
LOCATION:Geneva\, Switzerland
CATEGORIES:E-DYCE Events
ATTACH;FMTTYPE=image/jpeg:https://edyce.eu/wp-content/uploads/2021/01/pexels-fauxels-3183197-1-scaled.jpg
END:VEVENT
END:VCALENDAR